<?xml version="1.0" encoding="UTF-8" standalone="no"?>
<metadata xml:lang="nl">
<Esri>
<CreaDate>20100927</CreaDate>
<CreaTime>09045300</CreaTime>
<SyncOnce>FALSE</SyncOnce>
<MetaID>{42D3414D-101E-4635-BEA4-E5F37CB7C61F}</MetaID>
<DataProperties>
<itemProps>
<itemLocation>
<linkage Sync="TRUE">file://L:\Data\Sint-Niklaas\Data\mosaic.tif</linkage>
<protocol Sync="TRUE">Local Area Network</protocol>
</itemLocation>
<itemName Sync="TRUE">mosaic.tif</itemName>
<imsContentType Sync="TRUE">002</imsContentType>
<nativeExtBox>
<westBL Sync="TRUE">122997.041366</westBL>
<eastBL Sync="TRUE">140002.284936</eastBL>
<southBL Sync="TRUE">201948.107384</southBL>
<northBL Sync="TRUE">211325.993930</northBL>
<exTypeCode Sync="TRUE">1</exTypeCode>
</nativeExtBox>
</itemProps>
<copyHistory>
<copy date="20171129" dest="\\sn-arcgis-02\f$\GISDATA\Basiskaarten\Aerosurvey\Raster\mosaic.tif" source="Q:\GISDATA\Basiskaarten\Aerosurvey\Shape\mosaic.tif" time="09340200"/>
</copyHistory>
<RasterProperties>
<General>
<PixelDepth Sync="TRUE">8</PixelDepth>
<HasColormap Sync="TRUE">FALSE</HasColormap>
<CompressionType Sync="TRUE">LZW</CompressionType>
<NumBands Sync="TRUE">1</NumBands>
<Format Sync="TRUE">TIFF</Format>
<HasPyramids Sync="TRUE">TRUE</HasPyramids>
<SourceType Sync="TRUE">continuous</SourceType>
<PixelType Sync="TRUE">unsigned integer</PixelType>
<NoDataValue Sync="TRUE"/>
</General>
</RasterProperties>
</DataProperties>
<SyncDate>20220510</SyncDate>
<SyncTime>09111700</SyncTime>
<ModDate>20220510</ModDate>
<ModTime>09111700</ModTime>
</Esri>
<idinfo>
<citation>
<citeinfo>
<onlink Sync="TRUE">\\srv282\arcgisserver\Data\Aerosurvey\mosaic.tif</onlink>
</citeinfo>
</citation>
</idinfo>
<distInfo>
<distributor>
<distorTran>
<onLineSrc>
<linkage Sync="TRUE">file://\\srv282\arcgisserver\Data\Aerosurvey\mosaic.tif</linkage>
<protocol Sync="TRUE">Local Area Network</protocol>
</onLineSrc>
</distorTran>
</distributor>
<distFormat>
<formatName Sync="TRUE">Raster Dataset</formatName>
</distFormat>
</distInfo>
<dataqual>
<lineage>
<procstep>
<procdesc Sync="TRUE">Dataset copied.</procdesc>
<srcused Sync="TRUE">C:\temp\Eurotronics\mosaic.tif</srcused>
<procdate Sync="TRUE">20100927</procdate>
<proctime Sync="TRUE">09045400</proctime>
</procstep>
</lineage>
</dataqual>
<dataIdInfo>
<envirDesc Sync="TRUE"> Version 6.2 (Build 9200) ; Esri ArcGIS 10.5.1.7333</envirDesc>
<dataLang>
<languageCode Sync="TRUE" value="nld"/>
<countryCode Sync="TRUE" value="BEL"/>
</dataLang>
<idCitation>
<resTitle Sync="TRUE">Aerosurvey</resTitle>
<presForm>
<PresFormCd Sync="TRUE" value="005"/>
</presForm>
</idCitation>
<spatRpType>
<SpatRepTypCd Sync="TRUE" value="002"/>
</spatRpType>
<idAbs/>
<searchKeys>
<keyword>Aerosurvey</keyword>
</searchKeys>
<idPurp>Aerosurvey</idPurp>
<idCredit/>
<resConst>
<Consts>
<useLimit/>
</Consts>
</resConst>
</dataIdInfo>
<mdLang>
<languageCode Sync="TRUE" value="nld"/>
<countryCode Sync="TRUE" value="BEL"/>
</mdLang>
<mdHrLv>
<ScopeCd Sync="TRUE" value="005"/>
</mdHrLv>
<mdHrLvName Sync="TRUE">dataset</mdHrLvName>
<spatRepInfo>
<Georect>
<cellGeo>
<CellGeoCd Sync="TRUE" value="002"/>
</cellGeo>
<numDims Sync="TRUE">2</numDims>
<tranParaAv Sync="TRUE">1</tranParaAv>
<chkPtAv Sync="TRUE">0</chkPtAv>
<cornerPts>
<pos Sync="TRUE">122997.041366 201948.107384</pos>
</cornerPts>
<cornerPts>
<pos Sync="TRUE">122997.041366 211325.993930</pos>
</cornerPts>
<cornerPts>
<pos Sync="TRUE">140002.284936 211325.993930</pos>
</cornerPts>
<cornerPts>
<pos Sync="TRUE">140002.284936 201948.107384</pos>
</cornerPts>
<centerPt>
<pos Sync="TRUE">131499.663151 206637.050657</pos>
</centerPt>
<axisDimension type="002">
<dimSize Sync="TRUE">268145</dimSize>
<dimResol>
<value Sync="TRUE">0.063418</value>
</dimResol>
</axisDimension>
<axisDimension type="001">
<dimSize Sync="TRUE">147874</dimSize>
<dimResol>
<value Sync="TRUE">0.063418</value>
</dimResol>
</axisDimension>
<ptInPixel>
<PixOrientCd Sync="TRUE" value="001"/>
</ptInPixel>
</Georect>
</spatRepInfo>
<contInfo>
<ImgDesc>
<contentTyp>
<ContentTypCd Sync="TRUE" value="001"/>
</contentTyp>
<covDim>
<Band>
<dimDescrp Sync="TRUE">Band_1</dimDescrp>
<bitsPerVal Sync="TRUE">8</bitsPerVal>
</Band>
</covDim>
</ImgDesc>
</contInfo>
<mdDateSt Sync="TRUE">20220510</mdDateSt>
</metadata>
