<?xml version="1.0" encoding="UTF-8" standalone="no"?>
<metadata xml:lang="nl">
<Esri>
<CreaDate>20230904</CreaDate>
<CreaTime>14591300</CreaTime>
<ArcGISFormat>1.0</ArcGISFormat>
<SyncOnce>FALSE</SyncOnce>
<DataProperties>
<itemProps>
<itemName Sync="TRUE">DHM1</itemName>
<itemLocation>
<linkage Sync="TRUE">file://L:\data\Temp\V3\DHM1</linkage>
<protocol Sync="TRUE">Local Area Network</protocol>
</itemLocation>
<imsContentType Sync="TRUE">002</imsContentType>
<nativeExtBox>
<westBL Sync="TRUE">18000.000000</westBL>
<eastBL Sync="TRUE">266000.000000</eastBL>
<southBL Sync="TRUE">148000.000000</southBL>
<northBL Sync="TRUE">248000.000000</northBL>
<exTypeCode Sync="TRUE">1</exTypeCode>
</nativeExtBox>
</itemProps>
<coordRef>
<type Sync="TRUE">Projected</type>
<geogcsn Sync="TRUE">GCS_Belge_1972</geogcsn>
<csUnits Sync="TRUE">Linear Unit: Meter (1.000000)</csUnits>
<projcsn Sync="TRUE">Belge_1972_Lambert_Conformal_Conic</projcsn>
<peXml Sync="TRUE">&lt;ProjectedCoordinateSystem xsi:type='typens:ProjectedCoordinateSystem' xmlns:xsi='http://www.w3.org/2001/XMLSchema-instance' xmlns:xs='http://www.w3.org/2001/XMLSchema' xmlns:typens='http://www.esri.com/schemas/ArcGIS/2.9.0'&gt;&lt;WKT&gt;PROJCS[&amp;quot;Belge_1972_Lambert_Conformal_Conic&amp;quot;,GEOGCS[&amp;quot;GCS_Belge_1972&amp;quot;,DATUM[&amp;quot;D_Belge_1972&amp;quot;,SPHEROID[&amp;quot;International_1924&amp;quot;,6378388.0,297.0]],PRIMEM[&amp;quot;Greenwich&amp;quot;,0.0],UNIT[&amp;quot;Degree&amp;quot;,0.0174532925199433]],PROJECTION[&amp;quot;Lambert_Conformal_Conic&amp;quot;],PARAMETER[&amp;quot;False_Easting&amp;quot;,150000.013],PARAMETER[&amp;quot;False_Northing&amp;quot;,5400088.438],PARAMETER[&amp;quot;Central_Meridian&amp;quot;,4.367486666666666],PARAMETER[&amp;quot;Standard_Parallel_1&amp;quot;,49.8333339],PARAMETER[&amp;quot;Standard_Parallel_2&amp;quot;,51.16666723333333],PARAMETER[&amp;quot;Latitude_Of_Origin&amp;quot;,90.0],UNIT[&amp;quot;Meter&amp;quot;,1.0]]&lt;/WKT&gt;&lt;XOrigin&gt;-35872700&lt;/XOrigin&gt;&lt;YOrigin&gt;-30622700&lt;/YOrigin&gt;&lt;XYScale&gt;125021156.86415774&lt;/XYScale&gt;&lt;ZOrigin&gt;-100000&lt;/ZOrigin&gt;&lt;ZScale&gt;10000&lt;/ZScale&gt;&lt;MOrigin&gt;-100000&lt;/MOrigin&gt;&lt;MScale&gt;10000&lt;/MScale&gt;&lt;XYTolerance&gt;0.001&lt;/XYTolerance&gt;&lt;ZTolerance&gt;0.001&lt;/ZTolerance&gt;&lt;MTolerance&gt;0.001&lt;/MTolerance&gt;&lt;HighPrecision&gt;true&lt;/HighPrecision&gt;&lt;/ProjectedCoordinateSystem&gt;</peXml>
</coordRef>
<RasterProperties>
<General>
<PixelDepth Sync="TRUE">32</PixelDepth>
<HasColormap Sync="TRUE">FALSE</HasColormap>
<CompressionType Sync="TRUE">None</CompressionType>
<NumBands Sync="TRUE">1</NumBands>
<Format Sync="TRUE">GRID</Format>
<HasPyramids Sync="TRUE">TRUE</HasPyramids>
<SourceType Sync="TRUE">continuous</SourceType>
<PixelType Sync="TRUE">floating point</PixelType>
<NoDataValue Sync="TRUE">3.4e+38</NoDataValue>
</General>
</RasterProperties>
<lineage>
<Process Date="20230904" Time="145914" ToolSource="l:\apps\arcgis\pro\Resources\ArcToolbox\toolboxes\Data Management Tools.tbx\MosaicToNewRaster">MosaicToNewRaster C:\Users\admphe\Downloads\R5\GEOTIFF\R5_017.tif;C:\Users\admphe\Downloads\R5\GEOTIFF\R5_018.tif;C:\Users\admphe\Downloads\R5\GEOTIFF\R5_025.tif;C:\Users\admphe\Downloads\R5\GEOTIFF\R5_026.tif;C:\Users\admphe\Downloads\R5\GEOTIFF\R5_027.tif;C:\Users\admphe\Downloads\R5\GEOTIFF\R5_028.tif;C:\Users\admphe\Downloads\R5\GEOTIFF\R5_035.tif;C:\Users\admphe\Downloads\R5\GEOTIFF\R5_047.tif;C:\Users\admphe\Downloads\R5\GEOTIFF\R5_048.tif;C:\Users\admphe\Downloads\R5\GEOTIFF\R5_051.tif;C:\Users\admphe\Downloads\R5\GEOTIFF\R5_052.tif;C:\Users\admphe\Downloads\R5\GEOTIFF\R5_055.tif;C:\Users\admphe\Downloads\R5\GEOTIFF\R5_056.tif;C:\Users\admphe\Downloads\R5\GEOTIFF\R5_058.tif;C:\Users\admphe\Downloads\R5\GEOTIFF\R5_065.tif;C:\Users\admphe\Downloads\R5\GEOTIFF\R5_066.tif;C:\Users\admphe\Downloads\R5\GEOTIFF\R5_072.tif;C:\Users\admphe\Downloads\R5\GEOTIFF\R5_073.tif;C:\Users\admphe\Downloads\R5\GEOTIFF\R5_074.tif;C:\Users\admphe\Downloads\R5\GEOTIFF\R5_075.tif;C:\Users\admphe\Downloads\R5\GEOTIFF\R5_076.tif;C:\Users\admphe\Downloads\R5\GEOTIFF\R5_077.tif;C:\Users\admphe\Downloads\R5\GEOTIFF\R5_078.tif;C:\Users\admphe\Downloads\R5\GEOTIFF\R5_081.tif;C:\Users\admphe\Downloads\R5\GEOTIFF\R5_082.tif;C:\Users\admphe\Downloads\R5\GEOTIFF\R5_083.tif;C:\Users\admphe\Downloads\R5\GEOTIFF\R5_084.tif;C:\Users\admphe\Downloads\R5\GEOTIFF\R5_085.tif;C:\Users\admphe\Downloads\R5\GEOTIFF\R5_086.tif;C:\Users\admphe\Downloads\R5\GEOTIFF\R5_087.tif;C:\Users\admphe\Downloads\R5\GEOTIFF\R5_088.tif;C:\Users\admphe\Downloads\R5\GEOTIFF\R5_091.tif;C:\Users\admphe\Downloads\R5\GEOTIFF\R5_092.tif;C:\Users\admphe\Downloads\R5\GEOTIFF\R5_095.tif;C:\Users\admphe\Downloads\R5\GEOTIFF\R5_096.tif;C:\Users\admphe\Downloads\R5\GEOTIFF\R5_097.tif;C:\Users\admphe\Downloads\R5\GEOTIFF\R5_098.tif;C:\Users\admphe\Downloads\R5\GEOTIFF\R5_105.tif;C:\Users\admphe\Downloads\R5\GEOTIFF\R5_117.tif;C:\Users\admphe\Downloads\R5\GEOTIFF\R5_118.tif;C:\Users\admphe\Downloads\R5\GEOTIFF\R5_121.tif;C:\Users\admphe\Downloads\R5\GEOTIFF\R5_122.tif;C:\Users\admphe\Downloads\R5\GEOTIFF\R5_123.tif;C:\Users\admphe\Downloads\R5\GEOTIFF\R5_124.tif;C:\Users\admphe\Downloads\R5\GEOTIFF\R5_125.tif;C:\Users\admphe\Downloads\R5\GEOTIFF\R5_126.tif;C:\Users\admphe\Downloads\R5\GEOTIFF\R5_127.tif;C:\Users\admphe\Downloads\R5\GEOTIFF\R5_128.tif;C:\Users\admphe\Downloads\R5\GEOTIFF\R5_131.tif;C:\Users\admphe\Downloads\R5\GEOTIFF\R5_132.tif;C:\Users\admphe\Downloads\R5\GEOTIFF\R5_133.tif;C:\Users\admphe\Downloads\R5\GEOTIFF\R5_134.tif;C:\Users\admphe\Downloads\R5\GEOTIFF\R5_135.tif;C:\Users\admphe\Downloads\R5\GEOTIFF\R5_136.tif;C:\Users\admphe\Downloads\R5\GEOTIFF\R5_137.tif;C:\Users\admphe\Downloads\R5\GEOTIFF\R5_138.tif;C:\Users\admphe\Downloads\R5\GEOTIFF\R5_141.tif;C:\Users\admphe\Downloads\R5\GEOTIFF\R5_142.tif;C:\Users\admphe\Downloads\R5\GEOTIFF\R5_143.tif;C:\Users\admphe\Downloads\R5\GEOTIFF\R5_144.tif;C:\Users\admphe\Downloads\R5\GEOTIFF\R5_145.tif;C:\Users\admphe\Downloads\R5\GEOTIFF\R5_146.tif;C:\Users\admphe\Downloads\R5\GEOTIFF\R5_147.tif;C:\Users\admphe\Downloads\R5\GEOTIFF\R5_148.tif;C:\Users\admphe\Downloads\R5\GEOTIFF\R5_151.tif;C:\Users\admphe\Downloads\R5\GEOTIFF\R5_152.tif;C:\Users\admphe\Downloads\R5\GEOTIFF\R5_153.tif;C:\Users\admphe\Downloads\R5\GEOTIFF\R5_154.tif;C:\Users\admphe\Downloads\R5\GEOTIFF\R5_155.tif;C:\Users\admphe\Downloads\R5\GEOTIFF\R5_156.tif;C:\Users\admphe\Downloads\R5\GEOTIFF\R5_157.tif;C:\Users\admphe\Downloads\R5\GEOTIFF\R5_158.tif;C:\Users\admphe\Downloads\R5\GEOTIFF\R5_161.tif;C:\Users\admphe\Downloads\R5\GEOTIFF\R5_162.tif;C:\Users\admphe\Downloads\R5\GEOTIFF\R5_163.tif;C:\Users\admphe\Downloads\R5\GEOTIFF\R5_164.tif;C:\Users\admphe\Downloads\R5\GEOTIFF\R5_165.tif;C:\Users\admphe\Downloads\R5\GEOTIFF\R5_166.tif;C:\Users\admphe\Downloads\R5\GEOTIFF\R5_167.tif;C:\Users\admphe\Downloads\R5\GEOTIFF\R5_168.tif;C:\Users\admphe\Downloads\R5\GEOTIFF\R5_171.tif;C:\Users\admphe\Downloads\R5\GEOTIFF\R5_172.tif;C:\Users\admphe\Downloads\R5\GEOTIFF\R5_173.tif;C:\Users\admphe\Downloads\R5\GEOTIFF\R5_174.tif;C:\Users\admphe\Downloads\R5\GEOTIFF\R5_175.tif;C:\Users\admphe\Downloads\R5\GEOTIFF\R5_176.tif;C:\Users\admphe\Downloads\R5\GEOTIFF\R5_177.tif;C:\Users\admphe\Downloads\R5\GEOTIFF\R5_178.tif;C:\Users\admphe\Downloads\R5\GEOTIFF\R5_181.tif;C:\Users\admphe\Downloads\R5\GEOTIFF\R5_182.tif;C:\Users\admphe\Downloads\R5\GEOTIFF\R5_183.tif;C:\Users\admphe\Downloads\R5\GEOTIFF\R5_185.tif;C:\Users\admphe\Downloads\R5\GEOTIFF\R5_186.tif;C:\Users\admphe\Downloads\R5\GEOTIFF\R5_187.tif;C:\Users\admphe\Downloads\R5\GEOTIFF\R5_188.tif;C:\Users\admphe\Downloads\R5\GEOTIFF\R5_193.tif;C:\Users\admphe\Downloads\R5\GEOTIFF\R5_194.tif;C:\Users\admphe\Downloads\R5\GEOTIFF\R5_197.tif;C:\Users\admphe\Downloads\R5\GEOTIFF\R5_198.tif;C:\Users\admphe\Downloads\R5\GEOTIFF\R5_201.tif;C:\Users\admphe\Downloads\R5\GEOTIFF\R5_202.tif;C:\Users\admphe\Downloads\R5\GEOTIFF\R5_203.tif;C:\Users\admphe\Downloads\R5\GEOTIFF\R5_204.tif;C:\Users\admphe\Downloads\R5\GEOTIFF\R5_205.tif;C:\Users\admphe\Downloads\R5\GEOTIFF\R5_206.tif;C:\Users\admphe\Downloads\R5\GEOTIFF\R5_207.tif;C:\Users\admphe\Downloads\R5\GEOTIFF\R5_208.tif;C:\Users\admphe\Downloads\R5\GEOTIFF\R5_211.tif;C:\Users\admphe\Downloads\R5\GEOTIFF\R5_212.tif;C:\Users\admphe\Downloads\R5\GEOTIFF\R5_213.tif;C:\Users\admphe\Downloads\R5\GEOTIFF\R5_214.tif;C:\Users\admphe\Downloads\R5\GEOTIFF\R5_215.tif;C:\Users\admphe\Downloads\R5\GEOTIFF\R5_216.tif;C:\Users\admphe\Downloads\R5\GEOTIFF\R5_217.tif;C:\Users\admphe\Downloads\R5\GEOTIFF\R5_218.tif;C:\Users\admphe\Downloads\R5\GEOTIFF\R5_221.tif;C:\Users\admphe\Downloads\R5\GEOTIFF\R5_222.tif;C:\Users\admphe\Downloads\R5\GEOTIFF\R5_223.tif;C:\Users\admphe\Downloads\R5\GEOTIFF\R5_224.tif;C:\Users\admphe\Downloads\R5\GEOTIFF\R5_225.tif;C:\Users\admphe\Downloads\R5\GEOTIFF\R5_226.tif;C:\Users\admphe\Downloads\R5\GEOTIFF\R5_227.tif;C:\Users\admphe\Downloads\R5\GEOTIFF\R5_228.tif;C:\Users\admphe\Downloads\R5\GEOTIFF\R5_231.tif;C:\Users\admphe\Downloads\R5\GEOTIFF\R5_232.tif;C:\Users\admphe\Downloads\R5\GEOTIFF\R5_233.tif;C:\Users\admphe\Downloads\R5\GEOTIFF\R5_234.tif;C:\Users\admphe\Downloads\R5\GEOTIFF\R5_235.tif;C:\Users\admphe\Downloads\R5\GEOTIFF\R5_236.tif;C:\Users\admphe\Downloads\R5\GEOTIFF\R5_237.tif;C:\Users\admphe\Downloads\R5\GEOTIFF\R5_238.tif;C:\Users\admphe\Downloads\R5\GEOTIFF\R5_241.tif;C:\Users\admphe\Downloads\R5\GEOTIFF\R5_242.tif;C:\Users\admphe\Downloads\R5\GEOTIFF\R5_243.tif;C:\Users\admphe\Downloads\R5\GEOTIFF\R5_244.tif;C:\Users\admphe\Downloads\R5\GEOTIFF\R5_245.tif;C:\Users\admphe\Downloads\R5\GEOTIFF\R5_246.tif;C:\Users\admphe\Downloads\R5\GEOTIFF\R5_247.tif;C:\Users\admphe\Downloads\R5\GEOTIFF\R5_248.tif;C:\Users\admphe\Downloads\R5\GEOTIFF\R5_251.tif;C:\Users\admphe\Downloads\R5\GEOTIFF\R5_252.tif;C:\Users\admphe\Downloads\R5\GEOTIFF\R5_253.tif;C:\Users\admphe\Downloads\R5\GEOTIFF\R5_254.tif;C:\Users\admphe\Downloads\R5\GEOTIFF\R5_255.tif;C:\Users\admphe\Downloads\R5\GEOTIFF\R5_256.tif;C:\Users\admphe\Downloads\R5\GEOTIFF\R5_257.tif;C:\Users\admphe\Downloads\R5\GEOTIFF\R5_258.tif;C:\Users\admphe\Downloads\R5\GEOTIFF\R5_261.tif;C:\Users\admphe\Downloads\R5\GEOTIFF\R5_262.tif;C:\Users\admphe\Downloads\R5\GEOTIFF\R5_263.tif;C:\Users\admphe\Downloads\R5\GEOTIFF\R5_264.tif;C:\Users\admphe\Downloads\R5\GEOTIFF\R5_265.tif;C:\Users\admphe\Downloads\R5\GEOTIFF\R5_266.tif;C:\Users\admphe\Downloads\R5\GEOTIFF\R5_267.tif;C:\Users\admphe\Downloads\R5\GEOTIFF\R5_273.tif;C:\Users\admphe\Downloads\R5\GEOTIFF\R5_274.tif;C:\Users\admphe\Downloads\R5\GEOTIFF\R5_278.tif;C:\Users\admphe\Downloads\R5\GEOTIFF\R5_281.tif;C:\Users\admphe\Downloads\R5\GEOTIFF\R5_282.tif;C:\Users\admphe\Downloads\R5\GEOTIFF\R5_283.tif;C:\Users\admphe\Downloads\R5\GEOTIFF\R5_284.tif;C:\Users\admphe\Downloads\R5\GEOTIFF\R5_285.tif;C:\Users\admphe\Downloads\R5\GEOTIFF\R5_286.tif;C:\Users\admphe\Downloads\R5\GEOTIFF\R5_287.tif;C:\Users\admphe\Downloads\R5\GEOTIFF\R5_288.tif;C:\Users\admphe\Downloads\R5\GEOTIFF\R5_291.tif;C:\Users\admphe\Downloads\R5\GEOTIFF\R5_292.tif;C:\Users\admphe\Downloads\R5\GEOTIFF\R5_293.tif;C:\Users\admphe\Downloads\R5\GEOTIFF\R5_294.tif;C:\Users\admphe\Downloads\R5\GEOTIFF\R5_295.tif;C:\Users\admphe\Downloads\R5\GEOTIFF\R5_296.tif;C:\Users\admphe\Downloads\R5\GEOTIFF\R5_297.tif;C:\Users\admphe\Downloads\R5\GEOTIFF\R5_298.tif;C:\Users\admphe\Downloads\R5\GEOTIFF\R5_301.tif;C:\Users\admphe\Downloads\R5\GEOTIFF\R5_302.tif;C:\Users\admphe\Downloads\R5\GEOTIFF\R5_303.tif;C:\Users\admphe\Downloads\R5\GEOTIFF\R5_304.tif;C:\Users\admphe\Downloads\R5\GEOTIFF\R5_305.tif;C:\Users\admphe\Downloads\R5\GEOTIFF\R5_306.tif;C:\Users\admphe\Downloads\R5\GEOTIFF\R5_307.tif;C:\Users\admphe\Downloads\R5\GEOTIFF\R5_308.tif;C:\Users\admphe\Downloads\R5\GEOTIFF\R5_311.tif;C:\Users\admphe\Downloads\R5\GEOTIFF\R5_312.tif;C:\Users\admphe\Downloads\R5\GEOTIFF\R5_313.tif;C:\Users\admphe\Downloads\R5\GEOTIFF\R5_314.tif;C:\Users\admphe\Downloads\R5\GEOTIFF\R5_315.tif;C:\Users\admphe\Downloads\R5\GEOTIFF\R5_316.tif;C:\Users\admphe\Downloads\R5\GEOTIFF\R5_317.tif;C:\Users\admphe\Downloads\R5\GEOTIFF\R5_318.tif;C:\Users\admphe\Downloads\R5\GEOTIFF\R5_321.tif;C:\Users\admphe\Downloads\R5\GEOTIFF\R5_322.tif;C:\Users\admphe\Downloads\R5\GEOTIFF\R5_323.tif;C:\Users\admphe\Downloads\R5\GEOTIFF\R5_324.tif;C:\Users\admphe\Downloads\R5\GEOTIFF\R5_325.tif;C:\Users\admphe\Downloads\R5\GEOTIFF\R5_326.tif;C:\Users\admphe\Downloads\R5\GEOTIFF\R5_327.tif;C:\Users\admphe\Downloads\R5\GEOTIFF\R5_328.tif;C:\Users\admphe\Downloads\R5\GEOTIFF\R5_331.tif;C:\Users\admphe\Downloads\R5\GEOTIFF\R5_332.tif;C:\Users\admphe\Downloads\R5\GEOTIFF\R5_333.tif;C:\Users\admphe\Downloads\R5\GEOTIFF\R5_334.tif;C:\Users\admphe\Downloads\R5\GEOTIFF\R5_335.tif;C:\Users\admphe\Downloads\R5\GEOTIFF\R5_336.tif;C:\Users\admphe\Downloads\R5\GEOTIFF\R5_337.tif;C:\Users\admphe\Downloads\R5\GEOTIFF\R5_338.tif;C:\Users\admphe\Downloads\R5\GEOTIFF\R5_341.tif;C:\Users\admphe\Downloads\R5\GEOTIFF\R5_342.tif;C:\Users\admphe\Downloads\R5\GEOTIFF\R5_343.tif;C:\Users\admphe\Downloads\R5\GEOTIFF\R5_345.tif;C:\Users\admphe\Downloads\R5\GEOTIFF\R5_346.tif;C:\Users\admphe\Downloads\R5\GEOTIFF\R5_347.tif;C:\Users\admphe\Downloads\R5\GEOTIFF\R5_348.tif;C:\Users\admphe\Downloads\R5\GEOTIFF\R5_355.tif;C:\Users\admphe\Downloads\R5\GEOTIFF\R5_361.tif;C:\Users\admphe\Downloads\R5\GEOTIFF\R5_362.tif;C:\Users\admphe\Downloads\R5\GEOTIFF\R5_372.tif;C:\Users\admphe\Downloads\R5\GEOTIFF\R5_374.tif;C:\Users\admphe\Downloads\R5\GEOTIFF\R5_381.tif;C:\Users\admphe\Downloads\R5\GEOTIFF\R5_383.tif;C:\Users\admphe\Downloads\R5\GEOTIFF\R5_384.tif;C:\Users\admphe\Downloads\R5\GEOTIFF\R5_391.tif;C:\Users\admphe\Downloads\R5\GEOTIFF\R5_392.tif;C:\Users\admphe\Downloads\R5\GEOTIFF\R5_393.tif;C:\Users\admphe\Downloads\R5\GEOTIFF\R5_394.tif;C:\Users\admphe\Downloads\R5\GEOTIFF\R5_411.tif;C:\Users\admphe\Downloads\R5\GEOTIFF\R5_412.tif;C:\Users\admphe\Downloads\R5\GEOTIFF\R5_413.tif;C:\Users\admphe\Downloads\R5\GEOTIFF\R5_414.tif;C:\Users\admphe\Downloads\R5\GEOTIFF\R5_421.tif;C:\Users\admphe\Downloads\R5\GEOTIFF\R5_424.tif L:\data\Temp\V3 DHM1 PROJCS["Belge_Lambert_1972",GEOGCS["GCS_Belge_1972",DATUM["D_Belge_1972",SPHEROID["International_1924",6378388.0,297.0]],PRIMEM["Greenwich",0.0],UNIT["Degree",0.0174532925199433]],PROJECTION["Lambert_Conformal_Conic"],PARAMETER["False_Easting",150000.013],PARAMETER["False_Northing",5400088.438],PARAMETER["Central_Meridian",4.367486666666666],PARAMETER["Standard_Parallel_1",49.8333339],PARAMETER["Standard_Parallel_2",51.16666723333333],PARAMETER["Latitude_Of_Origin",90.0],UNIT["Meter",1.0]] "32 bit float" # 1 Last First</Process>
</lineage>
</DataProperties>
<SyncDate>20230904</SyncDate>
<SyncTime>14591400</SyncTime>
<ModDate>20230904</ModDate>
<ModTime>14591400</ModTime>
</Esri>
<dataIdInfo>
<envirDesc Sync="TRUE">Microsoft Windows Server 2016 Technical Preview Version 10.0 (Build 17763) ; Esri ArcGIS 12.9.7.32739</envirDesc>
<dataLang>
<languageCode Sync="TRUE" value="nld"/>
<countryCode Sync="TRUE" value="BEL"/>
</dataLang>
<idCitation>
<resTitle Sync="TRUE">DHM1_5M</resTitle>
<presForm>
<PresFormCd Sync="TRUE" value="005"/>
</presForm>
</idCitation>
<spatRpType>
<SpatRepTypCd Sync="TRUE" value="002"/>
</spatRpType>
<dataExt>
<geoEle>
<GeoBndBox esriExtentType="search">
<exTypeCode Sync="TRUE">1</exTypeCode>
<westBL Sync="TRUE">2.465522</westBL>
<eastBL Sync="TRUE">6.038993</eastBL>
<northBL Sync="TRUE">51.542034</northBL>
<southBL Sync="TRUE">50.628278</southBL>
</GeoBndBox>
</geoEle>
</dataExt>
<idAbs/>
<searchKeys>
<keyword>DHM1_5M</keyword>
</searchKeys>
<idPurp>DHM1_5M</idPurp>
<idCredit/>
<resConst>
<Consts>
<useLimit/>
</Consts>
</resConst>
</dataIdInfo>
<mdLang>
<languageCode Sync="TRUE" value="nld"/>
<countryCode Sync="TRUE" value="BEL"/>
</mdLang>
<mdChar>
<CharSetCd Sync="TRUE" value="004"/>
</mdChar>
<distInfo>
<distFormat>
<formatName Sync="TRUE">Raster Dataset</formatName>
</distFormat>
</distInfo>
<mdHrLv>
<ScopeCd Sync="TRUE" value="005"/>
</mdHrLv>
<mdHrLvName Sync="TRUE">dataset</mdHrLvName>
<refSysInfo>
<RefSystem>
<refSysID>
<identCode Sync="TRUE" code="0"/>
</refSysID>
</RefSystem>
</refSysInfo>
<spatRepInfo>
<Georect>
<cellGeo>
<CellGeoCd Sync="TRUE" value="002"/>
</cellGeo>
<numDims Sync="TRUE">2</numDims>
<tranParaAv Sync="TRUE">1</tranParaAv>
<chkPtAv Sync="TRUE">0</chkPtAv>
<cornerPts>
<pos Sync="TRUE">18000.000000 148000.000000</pos>
</cornerPts>
<cornerPts>
<pos Sync="TRUE">18000.000000 248000.000000</pos>
</cornerPts>
<cornerPts>
<pos Sync="TRUE">266000.000000 248000.000000</pos>
</cornerPts>
<cornerPts>
<pos Sync="TRUE">266000.000000 148000.000000</pos>
</cornerPts>
<centerPt>
<pos Sync="TRUE">142000.000000 198000.000000</pos>
</centerPt>
<axisDimension type="002">
<dimSize Sync="TRUE">49600</dimSize>
<dimResol>
<value Sync="TRUE" uom="m">5.000000</value>
</dimResol>
</axisDimension>
<axisDimension type="001">
<dimSize Sync="TRUE">20000</dimSize>
<dimResol>
<value Sync="TRUE" uom="m">5.000000</value>
</dimResol>
</axisDimension>
<ptInPixel>
<PixOrientCd Sync="TRUE" value="001"/>
</ptInPixel>
</Georect>
</spatRepInfo>
<contInfo>
<ImgDesc>
<contentTyp>
<ContentTypCd Sync="TRUE" value="003"/>
</contentTyp>
<covDim>
<Band>
<dimDescrp Sync="TRUE">DHM1</dimDescrp>
<maxVal Sync="TRUE">290.329987</maxVal>
<minVal Sync="TRUE">-9999.000000</minVal>
<bitsPerVal Sync="TRUE">32</bitsPerVal>
<valUnit>
<UOM type="length"/>
</valUnit>
</Band>
</covDim>
</ImgDesc>
</contInfo>
<mdDateSt Sync="TRUE">20230904</mdDateSt>
</metadata>
