{
 "currentVersion": 11.5,
 "serviceDescription": "VlaanderenConsult/DHM1_5M",
 "name": "VlaanderenConsult/DHM1_5M",
 "description": "",
 "extent": {
  "xmin": 18000,
  "ymin": 148000,
  "xmax": 266000,
  "ymax": 248000,
  "spatialReference": {
   "wkt2": "PROJCRS[\"Belge_1972_Lambert_Conformal_Conic\",BASEGEOGCRS[\"GCS_Belge_1972\",DATUM[\"D_Belge_1972\",ELLIPSOID[\"International_1924\",6378388.0,297.0,LENGTHUNIT[\"Meter\",1.0]]],PRIMEM[\"Greenwich\",0.0,ANGLEUNIT[\"Degree\",0.0174532925199433]],CS[ellipsoidal,2],AXIS[\"Latitude (lat)\",north,ORDER[1]],AXIS[\"Longitude (lon)\",east,ORDER[2]],ANGLEUNIT[\"Degree\",0.0174532925199433]],CONVERSION[\"Lambert_Conformal_Conic\",METHOD[\"Lambert_Conformal_Conic\"],PARAMETER[\"False_Easting\",150000.013,LENGTHUNIT[\"Meter\",1.0]],PARAMETER[\"False_Northing\",5400088.438,LENGTHUNIT[\"Meter\",1.0]],PARAMETER[\"Central_Meridian\",4.36748666666667,ANGLEUNIT[\"Degree\",0.0174532925199433]],PARAMETER[\"Standard_Parallel_1\",49.8333339,ANGLEUNIT[\"Degree\",0.0174532925199433]],PARAMETER[\"Standard_Parallel_2\",51.1666672333333,ANGLEUNIT[\"Degree\",0.0174532925199433]],PARAMETER[\"Latitude_Of_Origin\",90.0,ANGLEUNIT[\"Degree\",0.0174532925199433]]],CS[Cartesian,2],AXIS[\"Easting (X)\",east,ORDER[1]],AXIS[\"Northing (Y)\",north,ORDER[2]],LENGTHUNIT[\"Meter\",1.0]]",
   "wkt": "PROJCS[\"Belge_1972_Lambert_Conformal_Conic\",GEOGCS[\"GCS_Belge_1972\",DATUM[\"D_Belge_1972\",SPHEROID[\"International_1924\",6378388.0,297.0]],PRIMEM[\"Greenwich\",0.0],UNIT[\"Degree\",0.0174532925199433]],PROJECTION[\"Lambert_Conformal_Conic\"],PARAMETER[\"False_Easting\",150000.013],PARAMETER[\"False_Northing\",5400088.438],PARAMETER[\"Central_Meridian\",4.36748666666667],PARAMETER[\"Standard_Parallel_1\",49.8333339],PARAMETER[\"Standard_Parallel_2\",51.1666672333333],PARAMETER[\"Latitude_Of_Origin\",90.0],UNIT[\"Meter\",1.0]]"
  }
 },
 "initialExtent": {
  "xmin": 18000,
  "ymin": 148000,
  "xmax": 266000,
  "ymax": 248000,
  "spatialReference": {
   "wkt2": "PROJCRS[\"Belge_1972_Lambert_Conformal_Conic\",BASEGEOGCRS[\"GCS_Belge_1972\",DATUM[\"D_Belge_1972\",ELLIPSOID[\"International_1924\",6378388.0,297.0,LENGTHUNIT[\"Meter\",1.0]]],PRIMEM[\"Greenwich\",0.0,ANGLEUNIT[\"Degree\",0.0174532925199433]],CS[ellipsoidal,2],AXIS[\"Latitude (lat)\",north,ORDER[1]],AXIS[\"Longitude (lon)\",east,ORDER[2]],ANGLEUNIT[\"Degree\",0.0174532925199433]],CONVERSION[\"Lambert_Conformal_Conic\",METHOD[\"Lambert_Conformal_Conic\"],PARAMETER[\"False_Easting\",150000.013,LENGTHUNIT[\"Meter\",1.0]],PARAMETER[\"False_Northing\",5400088.438,LENGTHUNIT[\"Meter\",1.0]],PARAMETER[\"Central_Meridian\",4.36748666666667,ANGLEUNIT[\"Degree\",0.0174532925199433]],PARAMETER[\"Standard_Parallel_1\",49.8333339,ANGLEUNIT[\"Degree\",0.0174532925199433]],PARAMETER[\"Standard_Parallel_2\",51.1666672333333,ANGLEUNIT[\"Degree\",0.0174532925199433]],PARAMETER[\"Latitude_Of_Origin\",90.0,ANGLEUNIT[\"Degree\",0.0174532925199433]]],CS[Cartesian,2],AXIS[\"Easting (X)\",east,ORDER[1]],AXIS[\"Northing (Y)\",north,ORDER[2]],LENGTHUNIT[\"Meter\",1.0]]",
   "wkt": "PROJCS[\"Belge_1972_Lambert_Conformal_Conic\",GEOGCS[\"GCS_Belge_1972\",DATUM[\"D_Belge_1972\",SPHEROID[\"International_1924\",6378388.0,297.0]],PRIMEM[\"Greenwich\",0.0],UNIT[\"Degree\",0.0174532925199433]],PROJECTION[\"Lambert_Conformal_Conic\"],PARAMETER[\"False_Easting\",150000.013],PARAMETER[\"False_Northing\",5400088.438],PARAMETER[\"Central_Meridian\",4.36748666666667],PARAMETER[\"Standard_Parallel_1\",49.8333339],PARAMETER[\"Standard_Parallel_2\",51.1666672333333],PARAMETER[\"Latitude_Of_Origin\",90.0],UNIT[\"Meter\",1.0]]"
  }
 },
 "fullExtent": {
  "xmin": 18000,
  "ymin": 148000,
  "xmax": 266000,
  "ymax": 248000,
  "spatialReference": {
   "wkt2": "PROJCRS[\"Belge_1972_Lambert_Conformal_Conic\",BASEGEOGCRS[\"GCS_Belge_1972\",DATUM[\"D_Belge_1972\",ELLIPSOID[\"International_1924\",6378388.0,297.0,LENGTHUNIT[\"Meter\",1.0]]],PRIMEM[\"Greenwich\",0.0,ANGLEUNIT[\"Degree\",0.0174532925199433]],CS[ellipsoidal,2],AXIS[\"Latitude (lat)\",north,ORDER[1]],AXIS[\"Longitude (lon)\",east,ORDER[2]],ANGLEUNIT[\"Degree\",0.0174532925199433]],CONVERSION[\"Lambert_Conformal_Conic\",METHOD[\"Lambert_Conformal_Conic\"],PARAMETER[\"False_Easting\",150000.013,LENGTHUNIT[\"Meter\",1.0]],PARAMETER[\"False_Northing\",5400088.438,LENGTHUNIT[\"Meter\",1.0]],PARAMETER[\"Central_Meridian\",4.36748666666667,ANGLEUNIT[\"Degree\",0.0174532925199433]],PARAMETER[\"Standard_Parallel_1\",49.8333339,ANGLEUNIT[\"Degree\",0.0174532925199433]],PARAMETER[\"Standard_Parallel_2\",51.1666672333333,ANGLEUNIT[\"Degree\",0.0174532925199433]],PARAMETER[\"Latitude_Of_Origin\",90.0,ANGLEUNIT[\"Degree\",0.0174532925199433]]],CS[Cartesian,2],AXIS[\"Easting (X)\",east,ORDER[1]],AXIS[\"Northing (Y)\",north,ORDER[2]],LENGTHUNIT[\"Meter\",1.0]]",
   "wkt": "PROJCS[\"Belge_1972_Lambert_Conformal_Conic\",GEOGCS[\"GCS_Belge_1972\",DATUM[\"D_Belge_1972\",SPHEROID[\"International_1924\",6378388.0,297.0]],PRIMEM[\"Greenwich\",0.0],UNIT[\"Degree\",0.0174532925199433]],PROJECTION[\"Lambert_Conformal_Conic\"],PARAMETER[\"False_Easting\",150000.013],PARAMETER[\"False_Northing\",5400088.438],PARAMETER[\"Central_Meridian\",4.36748666666667],PARAMETER[\"Standard_Parallel_1\",49.8333339],PARAMETER[\"Standard_Parallel_2\",51.1666672333333],PARAMETER[\"Latitude_Of_Origin\",90.0],UNIT[\"Meter\",1.0]]"
  }
 },
 "sortableFields": "",
 "bandCount": 1,
 "pixelType": "F32",
 "minValues": [
  -9999
 ],
 "maxValues": [
  290.3299865722656
 ],
 "meanValues": [
  -2706.5651285427784
 ],
 "stdvValues": [
  4467.5278682580465
 ],
 "serviceProperties": "Center<\/MosaicMethod>First<\/MosaicOperator>true<\/SortAscending><\/LockImageID><\/TileOrderField>0<\/TileOrderBase>0.000000<\/AvgImageSpacingX>0.000000<\/AvgImageSpacingY>0.0<\/ViewPointX>0.0<\/ViewPointY>0.0<\/ViewPointDefShiftX>0.0<\/ViewPointDefShiftY>None<\/CompressionMethod>75<\/CompressionQuality>0.010000<\/CompressionTolerance>Bilinear<\/SamplingMethod><\/ImageServiceProperties><\/ImageServer>",
 "allowedFields": "",
 "hasMultidimensions": false,
 "pixelSizeX": 5,
 "pixelSizeY": 5,
 "meanPixelSize": 5,
 "datasetFormat": "GRID",
 "uncompressedSize": 3968000000,
 "blockWidth": 256,
 "blockHeight": 16,
 "compressionType": "None",
 "bandNames": [
  "DHM1"
 ],
 "allowCopy": true,
 "allowAnalysis": true,
 "itemAccess": false,
 "inspectionCapabilities": "",
 "noDataValue": -9999,
 "noDataValues": [
  -9999
 ],
 "minPixelSize": 0,
 "maxPixelSize": 0,
 "copyrightText": "",
 "serviceDataType": "esriImageServiceDataTypeGeneric",
 "serviceSourceType": "esriImageServiceSourceTypeDataset",
 "objectIdField": "",
 "fields": [],
 "capabilities": "Image,Metadata,Mensuration",
 "defaultMosaicMethod": "Center",
 "allowedMosaicMethods": "",
 "sortField": "",
 "sortValue": null,
 "sortAscending": true,
 "mosaicOperator": "First",
 "defaultCompressionQuality": 75,
 "defaultResamplingMethod": "Bilinear",
 "maxImageHeight": 4100,
 "maxImageWidth": 15000,
 "allowRasterFunction": true,
 "rasterFunctionInfos": [
  {
   "name": "None",
   "description": "",
   "help": ""
  }
 ],
 "rasterTypeInfos": [
  {
   "name": "Raster Dataset",
   "description": "Supports all ArcGIS Raster Datasets",
   "help": ""
  }
 ],
 "mensurationCapabilities": "Basic",
 "hasHistograms": true,
 "hasColormap": false,
 "hasRasterAttributeTable": false,
 "minScale": 0,
 "maxScale": 0,
 "exportTilesAllowed": false,
 "supportsStatistics": false,
 "supportsAdvancedQueries": false,
 "editFieldsInfo": null,
 "ownershipBasedAccessControlForRasters": null,
 "allowComputeTiePoints": false,
 "useStandardizedQueries": true,
 "advancedQueryCapabilities": {
  "useStandardizedQueries": true,
  "supportsStatistics": false,
  "supportsOrderBy": false,
  "supportsDistinct": false,
  "supportsPagination": false
 },
 "spatialReference": {
  "wkt2": "PROJCRS[\"Belge_1972_Lambert_Conformal_Conic\",BASEGEOGCRS[\"GCS_Belge_1972\",DATUM[\"D_Belge_1972\",ELLIPSOID[\"International_1924\",6378388.0,297.0,LENGTHUNIT[\"Meter\",1.0]]],PRIMEM[\"Greenwich\",0.0,ANGLEUNIT[\"Degree\",0.0174532925199433]],CS[ellipsoidal,2],AXIS[\"Latitude (lat)\",north,ORDER[1]],AXIS[\"Longitude (lon)\",east,ORDER[2]],ANGLEUNIT[\"Degree\",0.0174532925199433]],CONVERSION[\"Lambert_Conformal_Conic\",METHOD[\"Lambert_Conformal_Conic\"],PARAMETER[\"False_Easting\",150000.013,LENGTHUNIT[\"Meter\",1.0]],PARAMETER[\"False_Northing\",5400088.438,LENGTHUNIT[\"Meter\",1.0]],PARAMETER[\"Central_Meridian\",4.36748666666667,ANGLEUNIT[\"Degree\",0.0174532925199433]],PARAMETER[\"Standard_Parallel_1\",49.8333339,ANGLEUNIT[\"Degree\",0.0174532925199433]],PARAMETER[\"Standard_Parallel_2\",51.1666672333333,ANGLEUNIT[\"Degree\",0.0174532925199433]],PARAMETER[\"Latitude_Of_Origin\",90.0,ANGLEUNIT[\"Degree\",0.0174532925199433]]],CS[Cartesian,2],AXIS[\"Easting (X)\",east,ORDER[1]],AXIS[\"Northing (Y)\",north,ORDER[2]],LENGTHUNIT[\"Meter\",1.0]]",
  "wkt": "PROJCS[\"Belge_1972_Lambert_Conformal_Conic\",GEOGCS[\"GCS_Belge_1972\",DATUM[\"D_Belge_1972\",SPHEROID[\"International_1924\",6378388.0,297.0]],PRIMEM[\"Greenwich\",0.0],UNIT[\"Degree\",0.0174532925199433]],PROJECTION[\"Lambert_Conformal_Conic\"],PARAMETER[\"False_Easting\",150000.013],PARAMETER[\"False_Northing\",5400088.438],PARAMETER[\"Central_Meridian\",4.36748666666667],PARAMETER[\"Standard_Parallel_1\",49.8333339],PARAMETER[\"Standard_Parallel_2\",51.1666672333333],PARAMETER[\"Latitude_Of_Origin\",90.0],UNIT[\"Meter\",1.0]]"
 }
}
