{
 "currentVersion": 11.5,
 "serviceDescription": "VlaanderenImage/afstromingskaart_SFD_5m_ha_201408",
 "name": "VlaanderenImage/afstromingskaart_SFD_5m_ha_201408",
 "description": "",
 "extent": {
  "xmin": 17997.606543682516,
  "ymin": 148002.16589745414,
  "xmax": 265997.6065489477,
  "ymax": 248002.16590037197,
  "spatialReference": {
   "wkid": 31370,
   "latestWkid": 31370
  }
 },
 "initialExtent": {
  "xmin": 17997.606543682516,
  "ymin": 148002.16589745414,
  "xmax": 265997.6065489477,
  "ymax": 248002.16590037197,
  "spatialReference": {
   "wkid": 31370,
   "latestWkid": 31370
  }
 },
 "fullExtent": {
  "xmin": 17997.606543682516,
  "ymin": 148002.16589745414,
  "xmax": 265997.6065489477,
  "ymax": 248002.16590037197,
  "spatialReference": {
   "wkid": 31370,
   "latestWkid": 31370
  }
 },
 "sortableFields": "",
 "bandCount": 1,
 "pixelType": "F32",
 "minValues": [
  0.0024999999441206455
 ],
 "maxValues": [
  118366.1796875
 ],
 "meanValues": [
  9.234716801793601
 ],
 "stdvValues": [
  453.5488806064178
 ],
 "serviceProperties": "Center<\/MosaicMethod>First<\/MosaicOperator>true<\/SortAscending><\/LockImageID><\/TileOrderField>0<\/TileOrderBase>0,000000<\/AvgImageSpacingX>0,000000<\/AvgImageSpacingY>0.0<\/ViewPointX>0.0<\/ViewPointY>0.0<\/ViewPointDefShiftX>0.0<\/ViewPointDefShiftY>None<\/CompressionMethod>75<\/CompressionQuality>0,010000<\/CompressionTolerance>Bilinear<\/SamplingMethod><\/ImageServiceProperties><\/ImageServer>",
 "allowedFields": "",
 "hasMultidimensions": false,
 "pixelSizeX": 5.000000000106152,
 "pixelSizeY": 5.000000000145891,
 "meanPixelSize": 5.000000000126022,
 "datasetFormat": "FGDBR",
 "uncompressedSize": 3968000000,
 "blockWidth": 128,
 "blockHeight": 128,
 "compressionType": "LZ77",
 "bandNames": [
  "Band_1"
 ],
 "allowCopy": true,
 "allowAnalysis": true,
 "itemAccess": false,
 "inspectionCapabilities": "",
 "minPixelSize": 0,
 "maxPixelSize": 0,
 "copyrightText": "",
 "serviceDataType": "esriImageServiceDataTypeGeneric",
 "serviceSourceType": "esriImageServiceSourceTypeDataset",
 "objectIdField": "",
 "fields": [],
 "capabilities": "Image,Metadata,Mensuration",
 "defaultMosaicMethod": "Center",
 "allowedMosaicMethods": "",
 "sortField": "",
 "sortValue": null,
 "sortAscending": true,
 "mosaicOperator": "First",
 "defaultCompressionQuality": 75,
 "defaultResamplingMethod": "Bilinear",
 "maxImageHeight": 4100,
 "maxImageWidth": 15000,
 "allowRasterFunction": true,
 "rasterFunctionInfos": [
  {
   "name": "None",
   "description": "",
   "help": ""
  }
 ],
 "rasterTypeInfos": [
  {
   "name": "Raster Dataset",
   "description": "Supports all ArcGIS Raster Datasets",
   "help": ""
  }
 ],
 "mensurationCapabilities": "Basic",
 "hasHistograms": true,
 "hasColormap": false,
 "hasRasterAttributeTable": false,
 "minScale": 0,
 "maxScale": 0,
 "exportTilesAllowed": false,
 "supportsStatistics": false,
 "supportsAdvancedQueries": false,
 "editFieldsInfo": null,
 "ownershipBasedAccessControlForRasters": null,
 "allowComputeTiePoints": false,
 "useStandardizedQueries": true,
 "advancedQueryCapabilities": {
  "useStandardizedQueries": true,
  "supportsStatistics": false,
  "supportsOrderBy": false,
  "supportsDistinct": false,
  "supportsPagination": false
 },
 "spatialReference": {
  "wkid": 31370,
  "latestWkid": 31370
 }
}
