View In:
ArcGIS JavaScript
ArcGIS Online Map Viewer
ArcGIS Earth
Service Description: SintNiklaas/Aerosurvey
Name: SintNiklaas/Aerosurvey
Description:
Single Fused Map Cache: false
Extent:
XMin: 122997.04136630722
YMin: 201948.10738424145
XMax: 140002.28493638546
YMax: 211325.99392951265
Spatial Reference: 31370
(31370)
LatestVCSWkid(0)
Initial Extent:
XMin: 122997.04136630722
YMin: 201948.10738424145
XMax: 140002.28493638546
YMax: 211325.99392951265
Spatial Reference: 31370
(31370)
LatestVCSWkid(0)
Full Extent:
XMin: 122997.04136630722
YMin: 201948.10738424145
XMax: 140002.28493638546
YMax: 211325.99392951265
Spatial Reference: 31370
(31370)
LatestVCSWkid(0)
Pixel Size X: 0.06341808935493198
Pixel Size Y: 0.06341808935493194
Band Count: 1
Pixel Type: U8
RasterFunction Infos: {"rasterFunctionInfos": [{
"name": "None",
"description": "",
"help": ""
}]}
Mensuration Capabilities: Basic
Inspection Capabilities:
Has Histograms: true
Has Colormap: false
Has Multi Dimensions : false
Rendering Rule:
Min Scale: 0
Max Scale: 0
Copyright Text:
Service Data Type: esriImageServiceDataTypeGeneric
Min Values: 0
Max Values: 255
Mean Values: 250.97749773444
Standard Deviation Values: 31.773535408104
Object ID Field:
Fields:
None
Default Mosaic Method: Center
Allowed Mosaic Methods:
SortField:
SortValue: null
Mosaic Operator: First
Default Compression Quality: 75
Default Resampling Method: Bilinear
Max Record Count: null
Max Image Height: 4100
Max Image Width: 15000
Max Download Image Count: null
Max Mosaic Image Count: null
Allow Raster Function: true
Allow Copy: true
Allow Analysis: true
Allow Compute TiePoints: false
Supports Statistics: false
Supports Advanced Queries: false
Use StandardizedQueries: true
Raster Type Infos:
Name: Raster Dataset
Description: Supports all ArcGIS Raster Datasets
Help:
Has Raster Attribute Table: false
Edit Fields Info: null
Ownership Based AccessControl For Rasters: null
Child Resources:
Info
Histograms
Statistics
Key Properties
Legend
Raster Function Infos
Supported Operations:
Export Image
Identify
Measure
Compute Histograms
Compute Statistics Histograms
Get Samples
Compute Class Statistics
Query Boundary
Compute Pixel Location
Compute Angles
Validate
Project