View In:
ArcGIS JavaScript
ArcGIS Online Map Viewer
ArcGIS Earth
Service Description: VlaanderenImage/afstromingskaart_SFD_5m_ha_201408
Name: VlaanderenImage/afstromingskaart_SFD_5m_ha_201408
Description:
Single Fused Map Cache: false
Extent:
XMin: 17997.606543682516
YMin: 148002.16589745414
XMax: 265997.6065489477
YMax: 248002.16590037197
Spatial Reference: 31370
(31370)
LatestVCSWkid(0)
Initial Extent:
XMin: 17997.606543682516
YMin: 148002.16589745414
XMax: 265997.6065489477
YMax: 248002.16590037197
Spatial Reference: 31370
(31370)
LatestVCSWkid(0)
Full Extent:
XMin: 17997.606543682516
YMin: 148002.16589745414
XMax: 265997.6065489477
YMax: 248002.16590037197
Spatial Reference: 31370
(31370)
LatestVCSWkid(0)
Pixel Size X: 5.000000000106152
Pixel Size Y: 5.000000000145891
Band Count: 1
Pixel Type: F32
RasterFunction Infos: {"rasterFunctionInfos": [{
"name": "None",
"description": "",
"help": ""
}]}
Mensuration Capabilities: Basic
Inspection Capabilities:
Has Histograms: true
Has Colormap: false
Has Multi Dimensions : false
Rendering Rule:
Min Scale: 0
Max Scale: 0
Copyright Text:
Service Data Type: esriImageServiceDataTypeGeneric
Min Values: 0.0024999999441206455
Max Values: 118366.1796875
Mean Values: 9.234716801793601
Standard Deviation Values: 453.5488806064178
Object ID Field:
Fields:
None
Default Mosaic Method: Center
Allowed Mosaic Methods:
SortField:
SortValue: null
Mosaic Operator: First
Default Compression Quality: 75
Default Resampling Method: Bilinear
Max Record Count: null
Max Image Height: 4100
Max Image Width: 15000
Max Download Image Count: null
Max Mosaic Image Count: null
Allow Raster Function: true
Allow Copy: true
Allow Analysis: true
Allow Compute TiePoints: false
Supports Statistics: false
Supports Advanced Queries: false
Use StandardizedQueries: true
Raster Type Infos:
Name: Raster Dataset
Description: Supports all ArcGIS Raster Datasets
Help:
Has Raster Attribute Table: false
Edit Fields Info: null
Ownership Based AccessControl For Rasters: null
Child Resources:
Info
Histograms
Statistics
Key Properties
Legend
Raster Function Infos
Supported Operations:
Export Image
Identify
Measure
Compute Histograms
Compute Statistics Histograms
Get Samples
Compute Class Statistics
Query Boundary
Compute Pixel Location
Compute Angles
Validate
Project